BEGIN:VCALENDAR
VERSION:2.0
PRODID:-//NADI Pekan Ijok - ECPv6.15.13.1//NONSGML v1.0//EN
CALSCALE:GREGORIAN
METHOD:PUBLISH
X-WR-CALNAME:NADI Pekan Ijok
X-ORIGINAL-URL:https://ijok.nadi.my
X-WR-CALDESC:Events for NADI Pekan Ijok
REFRESH-INTERVAL;VALUE=DURATION:PT1H
X-Robots-Tag:noindex
X-PUBLISHED-TTL:PT1H
BEGIN:VTIMEZONE
TZID:UTC
BEGIN:STANDARD
TZOFFSETFROM:+0000
TZOFFSETTO:+0000
TZNAME:UTC
DTSTART:20230101T000000
END:STANDARD
END:VTIMEZONE
BEGIN:VEVENT
DTSTART;TZID=UTC:20240713T100000
DTEND;TZID=UTC:20240713T235959
DTSTAMP:20260422T020257
CREATED:20240630T203051Z
LAST-MODIFIED:20240630T203051Z
UID:3901-1720864800-1720915199@ijok.nadi.my
SUMMARY:Kelas ICT - Microsoft PowerPoint
DESCRIPTION:
URL:https://ijok.nadi.my/event/kelas-ict-microsoft-powerpoint-3/
CATEGORIES:DEFAULT
END:VEVENT
BEGIN:VEVENT
DTSTART;TZID=UTC:20240711T100000
DTEND;TZID=UTC:20240711T235959
DTSTAMP:20260422T020257
CREATED:20240630T203002Z
LAST-MODIFIED:20240630T203002Z
UID:3900-1720692000-1720742399@ijok.nadi.my
SUMMARY:Kelas Usahawan - Promosi Perniagaan
DESCRIPTION:
URL:https://ijok.nadi.my/event/kelas-usahawan-promosi-perniagaan/
CATEGORIES:DEFAULT
END:VEVENT
BEGIN:VEVENT
DTSTART;TZID=UTC:20240709T090000
DTEND;TZID=UTC:20240709T235959
DTSTAMP:20260422T020257
CREATED:20240630T202831Z
LAST-MODIFIED:20240630T202831Z
UID:3899-1720515600-1720569599@ijok.nadi.my
SUMMARY:Kelas Usahawan - TikTok shop
DESCRIPTION:
URL:https://ijok.nadi.my/event/kelas-usahawan-tiktok-shop-3/
CATEGORIES:DEFAULT
END:VEVENT
BEGIN:VEVENT
DTSTART;TZID=UTC:20240707T080000
DTEND;TZID=UTC:20240707T235959
DTSTAMP:20260422T020257
CREATED:20240630T202712Z
LAST-MODIFIED:20240630T202712Z
UID:3898-1720339200-1720396799@ijok.nadi.my
SUMMARY:Cuti Umum Awal Muharram
DESCRIPTION:
URL:https://ijok.nadi.my/event/cuti-umum-awal-muharram/
CATEGORIES:DEFAULT
END:VEVENT
BEGIN:VEVENT
DTSTART;TZID=UTC:20240706T090000
DTEND;TZID=UTC:20240706T235959
DTSTAMP:20260422T020257
CREATED:20240630T202626Z
LAST-MODIFIED:20240630T202626Z
UID:3897-1720256400-1720310399@ijok.nadi.my
SUMMARY:Kelas ICT - Microsoft Word
DESCRIPTION:
URL:https://ijok.nadi.my/event/kelas-ict-microsoft-word-8/
CATEGORIES:DEFAULT
END:VEVENT
BEGIN:VEVENT
DTSTART;TZID=UTC:20240627T080000
DTEND;TZID=UTC:20240627T235959
DTSTAMP:20260422T020257
CREATED:20240603T191849Z
LAST-MODIFIED:20240603T191849Z
UID:3896-1719475200-1719532799@ijok.nadi.my
SUMMARY:Kelas Usahawan
DESCRIPTION:
URL:https://ijok.nadi.my/event/kelas-usahawan-42/
CATEGORIES:DEFAULT
END:VEVENT
BEGIN:VEVENT
DTSTART;TZID=UTC:20240626T080000
DTEND;TZID=UTC:20240626T235959
DTSTAMP:20260422T020257
CREATED:20240603T191830Z
LAST-MODIFIED:20240603T191830Z
UID:3895-1719388800-1719446399@ijok.nadi.my
SUMMARY:Kelas Usahawan
DESCRIPTION:
URL:https://ijok.nadi.my/event/kelas-usahawan-41/
CATEGORIES:DEFAULT
END:VEVENT
BEGIN:VEVENT
DTSTART;TZID=UTC:20240624T080000
DTEND;TZID=UTC:20240624T235959
DTSTAMP:20260422T020257
CREATED:20240603T191809Z
LAST-MODIFIED:20240603T191809Z
UID:3894-1719216000-1719273599@ijok.nadi.my
SUMMARY:Klik Dengan Bijak
DESCRIPTION:
URL:https://ijok.nadi.my/event/klik-dengan-bijak-32/
CATEGORIES:DEFAULT
END:VEVENT
BEGIN:VEVENT
DTSTART;TZID=UTC:20240620T080000
DTEND;TZID=UTC:20240620T235959
DTSTAMP:20260422T020257
CREATED:20240603T191709Z
LAST-MODIFIED:20240603T191709Z
UID:3892-1718870400-1718927999@ijok.nadi.my
SUMMARY:Kelas Usahawan
DESCRIPTION:
URL:https://ijok.nadi.my/event/kelas-usahawan-40/
CATEGORIES:DEFAULT
END:VEVENT
BEGIN:VEVENT
DTSTART;TZID=UTC:20240619T080000
DTEND;TZID=UTC:20240619T235959
DTSTAMP:20260422T020257
CREATED:20240603T191652Z
LAST-MODIFIED:20240603T191652Z
UID:3891-1718784000-1718841599@ijok.nadi.my
SUMMARY:Kelas Usahawan
DESCRIPTION:
URL:https://ijok.nadi.my/event/kelas-usahawan-39/
CATEGORIES:DEFAULT
END:VEVENT
BEGIN:VEVENT
DTSTART;TZID=UTC:20240617T080000
DTEND;TZID=UTC:20240617T235959
DTSTAMP:20260422T020257
CREATED:20240603T191733Z
LAST-MODIFIED:20240603T191733Z
UID:3893-1718611200-1718668799@ijok.nadi.my
SUMMARY:Cuti Umum Hari Raya Aidiladha
DESCRIPTION:
URL:https://ijok.nadi.my/event/cuti-umum-hari-raya-aidiladha-3/
CATEGORIES:DEFAULT
END:VEVENT
BEGIN:VEVENT
DTSTART;TZID=UTC:20240615T080000
DTEND;TZID=UTC:20240615T235959
DTSTAMP:20260422T020257
CREATED:20240603T191627Z
LAST-MODIFIED:20240603T191627Z
UID:3890-1718438400-1718495999@ijok.nadi.my
SUMMARY:Softskill & E-Learning
DESCRIPTION:
URL:https://ijok.nadi.my/event/softskill-e-learning-2/
CATEGORIES:DEFAULT
END:VEVENT
BEGIN:VEVENT
DTSTART;TZID=UTC:20240615T080000
DTEND;TZID=UTC:20240615T235959
DTSTAMP:20260422T020257
CREATED:20240603T191627Z
LAST-MODIFIED:20240603T191627Z
UID:3853-1718438400-1718495999@ijok.nadi.my
SUMMARY:Softskill & E-Learning
DESCRIPTION:
URL:https://ijok.nadi.my/event/softskill-e-learning/
CATEGORIES:DEFAULT
END:VEVENT
BEGIN:VEVENT
DTSTART;TZID=UTC:20240609T080000
DTEND;TZID=UTC:20240609T235959
DTSTAMP:20260422T020257
CREATED:20240603T191553Z
LAST-MODIFIED:20240603T191553Z
UID:3889-1717920000-1717977599@ijok.nadi.my
SUMMARY:Kelas ICT & Stem Iot
DESCRIPTION:
URL:https://ijok.nadi.my/event/kelas-ict-stem-iot-6/
CATEGORIES:DEFAULT
END:VEVENT
BEGIN:VEVENT
DTSTART;TZID=UTC:20240609T080000
DTEND;TZID=UTC:20240609T235959
DTSTAMP:20260422T020257
CREATED:20240603T191553Z
LAST-MODIFIED:20240603T191553Z
UID:3852-1717920000-1717977599@ijok.nadi.my
SUMMARY:Kelas ICT & Stem Iot
DESCRIPTION:
URL:https://ijok.nadi.my/event/kelas-ict-stem-iot-4/
CATEGORIES:DEFAULT
END:VEVENT
BEGIN:VEVENT
DTSTART;TZID=UTC:20240608T080000
DTEND;TZID=UTC:20240608T235959
DTSTAMP:20260422T020257
CREATED:20240603T191513Z
LAST-MODIFIED:20240603T191513Z
UID:3888-1717833600-1717891199@ijok.nadi.my
SUMMARY:Kelas ICT \, Stem Iot & Softskill
DESCRIPTION:
URL:https://ijok.nadi.my/event/kelas-ict-stem-iot-softskill-2/
CATEGORIES:DEFAULT
END:VEVENT
BEGIN:VEVENT
DTSTART;TZID=UTC:20240608T080000
DTEND;TZID=UTC:20240608T235959
DTSTAMP:20260422T020257
CREATED:20240603T191513Z
LAST-MODIFIED:20240603T191513Z
UID:3851-1717833600-1717891199@ijok.nadi.my
SUMMARY:Kelas ICT \, Stem Iot & Softskill
DESCRIPTION:
URL:https://ijok.nadi.my/event/kelas-ict-stem-iot-softskill/
CATEGORIES:DEFAULT
END:VEVENT
BEGIN:VEVENT
DTSTART;TZID=UTC:20240606T080000
DTEND;TZID=UTC:20240606T235959
DTSTAMP:20260422T020257
CREATED:20240603T191427Z
LAST-MODIFIED:20240603T191427Z
UID:3887-1717660800-1717718399@ijok.nadi.my
SUMMARY:Kelas Usahawan
DESCRIPTION:
URL:https://ijok.nadi.my/event/kelas-usahawan-38/
CATEGORIES:DEFAULT
END:VEVENT
BEGIN:VEVENT
DTSTART;TZID=UTC:20240606T080000
DTEND;TZID=UTC:20240606T235959
DTSTAMP:20260422T020257
CREATED:20240603T191427Z
LAST-MODIFIED:20240603T191427Z
UID:3850-1717660800-1717718399@ijok.nadi.my
SUMMARY:Kelas Usahawan
DESCRIPTION:
URL:https://ijok.nadi.my/event/kelas-usahawan-33/
CATEGORIES:DEFAULT
END:VEVENT
BEGIN:VEVENT
DTSTART;TZID=UTC:20240603T080000
DTEND;TZID=UTC:20240604T235959
DTSTAMP:20260422T020257
CREATED:20240603T191351Z
LAST-MODIFIED:20240603T191351Z
UID:3886-1717401600-1717545599@ijok.nadi.my
SUMMARY:Cuti Umum Hari Yang di Pertuan Agong
DESCRIPTION:
URL:https://ijok.nadi.my/event/cuti-umum-hari-yang-di-pertuan-agong-2/
CATEGORIES:DEFAULT
END:VEVENT
BEGIN:VEVENT
DTSTART;TZID=UTC:20240603T080000
DTEND;TZID=UTC:20240604T235959
DTSTAMP:20260422T020257
CREATED:20240603T191351Z
LAST-MODIFIED:20240603T191351Z
UID:3849-1717401600-1717545599@ijok.nadi.my
SUMMARY:Cuti Umum Hari Yang di Pertuan Agong
DESCRIPTION:
URL:https://ijok.nadi.my/event/cuti-umum-hari-yang-di-pertuan-agong/
CATEGORIES:DEFAULT
END:VEVENT
BEGIN:VEVENT
DTSTART;TZID=UTC:20240602T080000
DTEND;TZID=UTC:20240604T235959
DTSTAMP:20260422T020257
CREATED:20240603T191305Z
LAST-MODIFIED:20240603T191305Z
UID:3885-1717315200-1717545599@ijok.nadi.my
SUMMARY:Kelas ICT & Stem Iot
DESCRIPTION:
URL:https://ijok.nadi.my/event/kelas-ict-stem-iot-5/
CATEGORIES:DEFAULT
END:VEVENT
BEGIN:VEVENT
DTSTART;TZID=UTC:20240602T080000
DTEND;TZID=UTC:20240604T235959
DTSTAMP:20260422T020257
CREATED:20240603T191305Z
LAST-MODIFIED:20240603T191305Z
UID:3848-1717315200-1717545599@ijok.nadi.my
SUMMARY:Kelas ICT & Stem Iot
DESCRIPTION:
URL:https://ijok.nadi.my/event/kelas-ict-stem-iot-3/
CATEGORIES:DEFAULT
END:VEVENT
BEGIN:VEVENT
DTSTART;TZID=UTC:20240601T080000
DTEND;TZID=UTC:20240604T235959
DTSTAMP:20260422T020257
CREATED:20240603T191102Z
LAST-MODIFIED:20240603T191102Z
UID:3884-1717228800-1717545599@ijok.nadi.my
SUMMARY:Kelas ICT Microsoft Word
DESCRIPTION:
URL:https://ijok.nadi.my/event/kelas-ict-microsoft-word-7/
CATEGORIES:DEFAULT
END:VEVENT
BEGIN:VEVENT
DTSTART;TZID=UTC:20240601T080000
DTEND;TZID=UTC:20240604T235959
DTSTAMP:20260422T020257
CREATED:20240603T191102Z
LAST-MODIFIED:20240603T191102Z
UID:3847-1717228800-1717545599@ijok.nadi.my
SUMMARY:Kelas ICT Microsoft Word
DESCRIPTION:
URL:https://ijok.nadi.my/event/kelas-ict-microsoft-word-6/
CATEGORIES:DEFAULT
END:VEVENT
BEGIN:VEVENT
DTSTART;TZID=UTC:20240529T080000
DTEND;TZID=UTC:20240529T235959
DTSTAMP:20260422T020257
CREATED:20240502T174328Z
LAST-MODIFIED:20240502T174328Z
UID:3883-1716969600-1717027199@ijok.nadi.my
SUMMARY:Aktiviti Cuti Sekolah
DESCRIPTION:
URL:https://ijok.nadi.my/event/aktiviti-cuti-sekolah-2/
CATEGORIES:DEFAULT
END:VEVENT
BEGIN:VEVENT
DTSTART;TZID=UTC:20240529T080000
DTEND;TZID=UTC:20240529T235959
DTSTAMP:20260422T020257
CREATED:20240502T174328Z
LAST-MODIFIED:20240502T174328Z
UID:3846-1716969600-1717027199@ijok.nadi.my
SUMMARY:Aktiviti Cuti Sekolah
DESCRIPTION:
URL:https://ijok.nadi.my/event/aktiviti-cuti-sekolah/
CATEGORIES:DEFAULT
END:VEVENT
BEGIN:VEVENT
DTSTART;TZID=UTC:20240525T080000
DTEND;TZID=UTC:20240525T235959
DTSTAMP:20260422T020257
CREATED:20240502T174255Z
LAST-MODIFIED:20240502T174255Z
UID:3882-1716624000-1716681599@ijok.nadi.my
SUMMARY:Kelas ICT (Buat Poster)
DESCRIPTION:
URL:https://ijok.nadi.my/event/kelas-ict-buat-poster-2/
CATEGORIES:DEFAULT
END:VEVENT
BEGIN:VEVENT
DTSTART;TZID=UTC:20240525T080000
DTEND;TZID=UTC:20240525T235959
DTSTAMP:20260422T020257
CREATED:20240502T174255Z
LAST-MODIFIED:20240502T174255Z
UID:3845-1716624000-1716681599@ijok.nadi.my
SUMMARY:Kelas ICT (Buat Poster)
DESCRIPTION:
URL:https://ijok.nadi.my/event/kelas-ict-buat-poster/
CATEGORIES:DEFAULT
END:VEVENT
BEGIN:VEVENT
DTSTART;TZID=UTC:20240523T080000
DTEND;TZID=UTC:20240523T235959
DTSTAMP:20260422T020257
CREATED:20240502T174143Z
LAST-MODIFIED:20240502T174143Z
UID:3881-1716451200-1716508799@ijok.nadi.my
SUMMARY:Kelas Usahawan ( TikTok Shop)
DESCRIPTION:
URL:https://ijok.nadi.my/event/kelas-usahawan-tiktok-shop-2/
CATEGORIES:DEFAULT
END:VEVENT
END:VCALENDAR